BEGIN:VCALENDAR
VERSION:2.0
METHOD:PUBLISH
PRODID:-//Telerik Inc.//Sitefinity CMS 13.3//EN
BEGIN:VEVENT
DESCRIPTION:Postponed until 2021. Dates are TBD - currently postponed to 8 
 - 10 September 2021. For the latest on show developments\, visit&nbsp\;htt
 ps://www.bulkhandlingexpo.com.au/
DTEND;VALUE=DATE:20210911
DTSTAMP:20210723T194433Z
DTSTART;VALUE=DATE:20210908
LOCATION:Australia\,Melbourne\,Melbourne Convention & Exhibition Centre
SEQUENCE:0
SUMMARY:Australian Bulk Handling Expo
UID:RFCALITEM637626518733722088
X-ALT-DESC;FMTTYPE=text/html:Postponed until 2021. Dates are TBD - currentl
 y postponed to 8 - 10 September 2021. For the latest on show developments\
 , visit&nbsp\;<a href="https://www.bulkhandlingexpo.com.au/">https://www.b
 ulkhandlingexpo.com.au/</a>
END:VEVENT
END:VCALENDAR
